BEGIN:VCALENDAR
VERSION:2.0
PRODID:SchoolNow
CALSCALE:GREGORIAN
BEGIN:VEVENT
UID:057aeae2-7d34-11f0-a464-0e3b43347647
DTSTAMP:20251216T200046Z
SUMMARY:NT Teacher PD Day
URL;VALUE=URI:https://www.northtippah.org/calendar/8522515/nt-teacher-pd-da
 y
DTSTART;VALUE=DATE:20251013
DTEND;VALUE=DATE:20251014
END:VEVENT
END:VCALENDAR
