BEGIN:VCALENDAR
VERSION:2.0
PRODID:SchoolNow
CALSCALE:GREGORIAN
BEGIN:VEVENT
UID:057aed6c-7d34-11f0-91fa-0e3b43347647
DTSTAMP:20251216T200046Z
SUMMARY:Fall Break
URL;VALUE=URI:https://www.northtippah.org/calendar/8522518/fall-break
DTSTART;VALUE=DATE:20251008
DTEND;VALUE=DATE:20251009
END:VEVENT
END:VCALENDAR
