BEGIN:VCALENDAR
VERSION:2.0
PRODID:SchoolNow
CALSCALE:GREGORIAN
BEGIN:VEVENT
UID:057aeff6-7d34-11f0-8cae-0e3b43347647
DTSTAMP:20251216T200046Z
SUMMARY:Begin 2nd 9 Weeks
URL;VALUE=URI:https://www.northtippah.org/calendar/8522521/begin-2nd-9-week
 s
DTSTART;VALUE=DATE:20251014
DTEND;VALUE=DATE:20251015
END:VEVENT
END:VCALENDAR
