BEGIN:VCALENDAR
VERSION:2.0
PRODID:SchoolNow
CALSCALE:GREGORIAN
BEGIN:VEVENT
UID:057af0d2-7d34-11f0-8cf3-0e3b43347647
DTSTAMP:20251216T200046Z
SUMMARY:Thanksgiving Break
URL;VALUE=URI:https://www.northtippah.org/calendar/8522522/thanksgiving-bre
 ak
DTSTART;VALUE=DATE:20251124
DTEND;VALUE=DATE:20251129
END:VEVENT
END:VCALENDAR
