BEGIN:VCALENDAR
VERSION:2.0
PRODID:SchoolNow
CALSCALE:GREGORIAN
BEGIN:VEVENT
UID:057af1ae-7d34-11f0-8ea8-0e3b43347647
DTSTAMP:20251216T200046Z
SUMMARY:Christmas Break
URL;VALUE=URI:https://www.northtippah.org/calendar/8522523/christmas-break
DTSTART;VALUE=DATE:20251219
DTEND;VALUE=DATE:20260103
END:VEVENT
END:VCALENDAR
