BEGIN:VCALENDAR
VERSION:2.0
PRODID:SchoolNow
CALSCALE:GREGORIAN
BEGIN:VEVENT
UID:057af2da-7d34-11f0-b627-0e3b43347647
DTSTAMP:20251216T200046Z
SUMMARY:Student 60% Day
URL;VALUE=URI:https://www.northtippah.org/calendar/8522524/student-60-day
DTSTART;VALUE=DATE:20251219
DTEND;VALUE=DATE:20251220
END:VEVENT
END:VCALENDAR
