BEGIN:VCALENDAR
VERSION:2.0
PRODID:SchoolNow
CALSCALE:GREGORIAN
BEGIN:VEVENT
UID:057af4ce-7d34-11f0-97cf-0e3b43347647
DTSTAMP:20251216T200046Z
SUMMARY:Begin 3rd Nine Weeks
URL;VALUE=URI:https://www.northtippah.org/calendar/8522526/begin-3rd-nine-w
 eeks
DTSTART;VALUE=DATE:20260106
DTEND;VALUE=DATE:20260107
END:VEVENT
END:VCALENDAR
