BEGIN:VCALENDAR
VERSION:2.0
PRODID:SchoolNow
CALSCALE:GREGORIAN
BEGIN:VEVENT
UID:057af69a-7d34-11f0-b0a2-0e3b43347647
DTSTAMP:20251216T200046Z
SUMMARY:Begin 4th Nine Weeks
URL;VALUE=URI:https://www.northtippah.org/calendar/8522528/begin-4th-nine-w
 eeks
DTSTART;VALUE=DATE:20260316
DTEND;VALUE=DATE:20260317
END:VEVENT
END:VCALENDAR
