BEGIN:VCALENDAR
VERSION:2.0
PRODID:SchoolNow
CALSCALE:GREGORIAN
BEGIN:VEVENT
UID:d5b8c71e-7eca-11f0-87df-0e6ad309e143
DTSTAMP:20251216T200046Z
SUMMARY:WHS Volleyball @ AC Tourney
URL;VALUE=URI:https://www.northtippah.org/calendar/8529225/whs-volleyball-a
 c-tourney
DTSTART:20250906T130000Z
DTEND:20250906T190000Z
END:VEVENT
END:VCALENDAR
