BEGIN:VCALENDAR
VERSION:2.0
PRODID:SchoolNow
CALSCALE:GREGORIAN
BEGIN:VEVENT
UID:d5b8cc28-7eca-11f0-b19c-0e6ad309e143
DTSTAMP:20251216T200046Z
SUMMARY:WHS Jr High Football vs Thrasher
URL;VALUE=URI:https://www.northtippah.org/calendar/8529230/whs-jr-high-foot
 ball-vs-thrasher
DTSTART:20250902T230000Z
DTEND:20250903T000000Z
END:VEVENT
END:VCALENDAR
