BEGIN:VCALENDAR
VERSION:2.0
PRODID:SchoolNow
CALSCALE:GREGORIAN
BEGIN:VEVENT
UID:d5b8cd0e-7eca-11f0-84ed-0e6ad309e143
DTSTAMP:20251216T200046Z
SUMMARY:WHS Volleyball vs Hamilton
URL;VALUE=URI:https://www.northtippah.org/calendar/8529231/whs-volleyball-v
 s-hamilton
DTSTART:20250904T223000Z
DTEND:20250905T013000Z
END:VEVENT
END:VCALENDAR
