BEGIN:VCALENDAR
VERSION:2.0
PRODID:SchoolNow
CALSCALE:GREGORIAN
BEGIN:VEVENT
UID:d5b8cdf4-7eca-11f0-a95c-0e6ad309e143
DTSTAMP:20251216T200046Z
SUMMARY:WHS Football vs Belmont
URL;VALUE=URI:https://www.northtippah.org/calendar/8529232/whs-football-vs-
 belmont
DTSTART:20250906T000000Z
DTEND:20250906T010000Z
END:VEVENT
END:VCALENDAR
