BEGIN:VCALENDAR
VERSION:2.0
PRODID:SchoolNow
CALSCALE:GREGORIAN
BEGIN:VEVENT
UID:d5b8ceda-7eca-11f0-b971-0e6ad309e143
DTSTAMP:20251216T200046Z
SUMMARY:WHS XC @ HF Invitational @ BMCU
URL;VALUE=URI:https://www.northtippah.org/calendar/8529233/whs-xc-hf-invita
 tional-bmcu
DTSTART:20250906T130000Z
DTEND:20250906T150000Z
END:VEVENT
END:VCALENDAR
