BEGIN:VCALENDAR
VERSION:2.0
PRODID:SchoolNow
CALSCALE:GREGORIAN
BEGIN:VEVENT
UID:d5b8cfb6-7eca-11f0-85ed-0e6ad309e143
DTSTAMP:20251216T200046Z
SUMMARY:WHS Volleyball @ Hatley
URL;VALUE=URI:https://www.northtippah.org/calendar/8529234/whs-volleyball-h
 atley
DTSTART:20250909T223000Z
DTEND:20250910T003000Z
END:VEVENT
END:VCALENDAR
