BEGIN:VCALENDAR
VERSION:2.0
PRODID:SchoolNow
CALSCALE:GREGORIAN
BEGIN:VEVENT
UID:d5b8d09c-7eca-11f0-9809-0e6ad309e143
DTSTAMP:20251216T200046Z
SUMMARY:WHS Jr High Football @ AC
URL;VALUE=URI:https://www.northtippah.org/calendar/8529235/whs-jr-high-foot
 ball-ac
DTSTART:20250909T230000Z
DTEND:20250910T000000Z
END:VEVENT
END:VCALENDAR
