BEGIN:VCALENDAR
VERSION:2.0
PRODID:SchoolNow
CALSCALE:GREGORIAN
BEGIN:VEVENT
UID:d5b8d178-7eca-11f0-8d9c-0e6ad309e143
DTSTAMP:20251216T200046Z
SUMMARY:WHS Jr. High Football  & Cheer Pictures
URL;VALUE=URI:https://www.northtippah.org/calendar/8529236/whs-jr-high-foot
 ball-cheer-pictures
DTSTART;VALUE=DATE:20250910
DTEND;VALUE=DATE:20250911
END:VEVENT
END:VCALENDAR
