BEGIN:VCALENDAR
VERSION:2.0
PRODID:SchoolNow
CALSCALE:GREGORIAN
BEGIN:VEVENT
UID:d5b8d330-7eca-11f0-b073-0e6ad309e143
DTSTAMP:20251216T200046Z
SUMMARY:WHS Volleyball @ Hamilton
URL;VALUE=URI:https://www.northtippah.org/calendar/8529238/whs-volleyball-h
 amilton
DTSTART:20250911T223000Z
DTEND:20250911T233000Z
END:VEVENT
END:VCALENDAR
