BEGIN:VCALENDAR
VERSION:2.0
PRODID:SchoolNow
CALSCALE:GREGORIAN
BEGIN:VEVENT
UID:ce085ffe-7f63-11f0-b892-0afff1f86ab7
DTSTAMP:20251216T200046Z
SUMMARY:WHS XC @ Myrtle Invitational @ Union Co Fairgrounds
URL;VALUE=URI:https://www.northtippah.org/calendar/8532130/whs-xc-myrtle-in
 vitational-union-co-fairgrounds
DTSTART:20250913T140000Z
DTEND:20250913T150000Z
END:VEVENT
END:VCALENDAR
