BEGIN:VCALENDAR
VERSION:2.0
PRODID:SchoolNow
CALSCALE:GREGORIAN
BEGIN:VEVENT
UID:ce088074-7f63-11f0-ab3a-0afff1f86ab7
DTSTAMP:20251216T200046Z
SUMMARY:WHS XC @ S Pontotoc Invitational
URL;VALUE=URI:https://www.northtippah.org/calendar/8532131/whs-xc-s-pontoto
 c-invitational
DTSTART:20250927T150000Z
DTEND:20250927T160000Z
END:VEVENT
END:VCALENDAR
