BEGIN:VCALENDAR
VERSION:2.0
PRODID:SchoolNow
CALSCALE:GREGORIAN
BEGIN:VEVENT
UID:ce088204-7f63-11f0-ab0b-0afff1f86ab7
DTSTAMP:20251216T200046Z
SUMMARY:WHS XC @ Pontotoc Invitational @ Cherry Creek
URL;VALUE=URI:https://www.northtippah.org/calendar/8532132/whs-xc-pontotoc-
 invitational-cherry-creek
DTSTART:20251004T150000Z
DTEND:20251004T160000Z
END:VEVENT
END:VCALENDAR
