BEGIN:VCALENDAR
VERSION:2.0
PRODID:SchoolNow
CALSCALE:GREGORIAN
BEGIN:VEVENT
UID:ce088326-7f63-11f0-9167-0afff1f86ab7
DTSTAMP:20251216T200046Z
SUMMARY:WHS XC  @ Firehouse 5k ( Optional)
URL;VALUE=URI:https://www.northtippah.org/calendar/8532133/whs-xc-firehouse
 -5k-optional
DTSTART;VALUE=DATE:20251011
DTEND;VALUE=DATE:20251012
END:VEVENT
END:VCALENDAR
