BEGIN:VCALENDAR
VERSION:2.0
PRODID:SchoolNow
CALSCALE:GREGORIAN
BEGIN:VEVENT
UID:ce088420-7f63-11f0-9545-0afff1f86ab7
DTSTAMP:20251216T200046Z
SUMMARY:WHS XC @ New Site Invitational
URL;VALUE=URI:https://www.northtippah.org/calendar/8532134/whs-xc-new-site-
 invitational
DTSTART:20251014T213000Z
DTEND:20251014T223000Z
END:VEVENT
END:VCALENDAR
