BEGIN:VCALENDAR
VERSION:2.0
PRODID:SchoolNow
CALSCALE:GREGORIAN
BEGIN:VEVENT
UID:ce08851a-7f63-11f0-af94-0afff1f86ab7
DTSTAMP:20251216T200046Z
SUMMARY:XC Regional @ NA
URL;VALUE=URI:https://www.northtippah.org/calendar/8532135/xc-regional-na
DTSTART;VALUE=DATE:20251021
DTEND;VALUE=DATE:20251022
END:VEVENT
END:VCALENDAR
