BEGIN:VCALENDAR
VERSION:2.0
PRODID:SchoolNow
CALSCALE:GREGORIAN
BEGIN:VEVENT
UID:ce088614-7f63-11f0-9c0e-0afff1f86ab7
DTSTAMP:20251216T200046Z
SUMMARY:WHS XC State
LOCATION:Mississippi College Choctaw Trails
URL;VALUE=URI:https://www.northtippah.org/calendar/8532136/whs-xc-state
DTSTART:20251030T170000Z
DTEND:20251030T180000Z
END:VEVENT
END:VCALENDAR
