BEGIN:VCALENDAR
VERSION:2.0
PRODID:SchoolNow
CALSCALE:GREGORIAN
BEGIN:VEVENT
UID:cb3a8efe-7f96-11f0-97df-02e507064a77
DTSTAMP:20251216T200046Z
SUMMARY:WHS Volleyball vs EU
URL;VALUE=URI:https://www.northtippah.org/calendar/8533731/whs-volleyball-v
 s-eu
DTSTART:20250915T213000Z
DTEND:20250916T013000Z
END:VEVENT
END:VCALENDAR
