BEGIN:VCALENDAR
VERSION:2.0
PRODID:SchoolNow
CALSCALE:GREGORIAN
BEGIN:VEVENT
UID:cb3a92c8-7f96-11f0-a392-02e507064a77
DTSTAMP:20251216T200046Z
SUMMARY:WHS Volleyball @ New Site
URL;VALUE=URI:https://www.northtippah.org/calendar/8533732/whs-volleyball-n
 ew-site
DTSTART:20250916T220000Z
DTEND:20250917T000000Z
END:VEVENT
END:VCALENDAR
