BEGIN:VCALENDAR
VERSION:2.0
PRODID:SchoolNow
CALSCALE:GREGORIAN
BEGIN:VEVENT
UID:cb3a9408-7f96-11f0-adf8-02e507064a77
DTSTAMP:20251216T200046Z
SUMMARY:Jr. High HOCO @ Chalybeate
URL;VALUE=URI:https://www.northtippah.org/calendar/8533733/jr-high-hoco-cha
 lybeate
DTSTART:20250918T223000Z
DTEND:20250918T224500Z
END:VEVENT
END:VCALENDAR
