BEGIN:VCALENDAR
VERSION:2.0
PRODID:SchoolNow
CALSCALE:GREGORIAN
BEGIN:VEVENT
UID:cb3a9520-7f96-11f0-aedd-02e507064a77
DTSTAMP:20251216T200046Z
SUMMARY:WHS Jr. High Football vs Middleton
LOCATION:Chalybeate School\, 2471 MS-354\, Walnut\, MS 38683\, USA
URL;VALUE=URI:https://www.northtippah.org/calendar/8533734/whs-jr-high-foot
 ball-vs-middleton
DTSTART:20250918T224500Z
DTEND:20250918T233000Z
END:VEVENT
END:VCALENDAR
