BEGIN:VCALENDAR
VERSION:2.0
PRODID:SchoolNow
CALSCALE:GREGORIAN
BEGIN:VEVENT
UID:cb3a961a-7f96-11f0-9b5a-02e507064a77
DTSTAMP:20251216T200046Z
SUMMARY:WHS Homecoming Parade
URL;VALUE=URI:https://www.northtippah.org/calendar/8533735/whs-homecoming-p
 arade
DTSTART:20250919T000000Z
DTEND:20250919T010000Z
END:VEVENT
END:VCALENDAR
