BEGIN:VCALENDAR
VERSION:2.0
PRODID:SchoolNow
CALSCALE:GREGORIAN
BEGIN:VEVENT
UID:cb3a970a-7f96-11f0-8fa3-02e507064a77
DTSTAMP:20251216T200046Z
SUMMARY:WHS Homecoming & Football
URL;VALUE=URI:https://www.northtippah.org/calendar/8533736/whs-homecoming-f
 ootball
DTSTART:20250919T233000Z
DTEND:20250920T033000Z
END:VEVENT
END:VCALENDAR
