BEGIN:VCALENDAR
VERSION:2.0
PRODID:SchoolNow
CALSCALE:GREGORIAN
BEGIN:VEVENT
UID:cb3a97f0-7f96-11f0-9646-02e507064a77
DTSTAMP:20251216T200046Z
SUMMARY:Volleyball TCT @ WHS
URL;VALUE=URI:https://www.northtippah.org/calendar/8533737/volleyball-tct-w
 hs
DTSTART;VALUE=DATE:20250920
DTEND;VALUE=DATE:20250921
END:VEVENT
END:VCALENDAR
