BEGIN:VCALENDAR
VERSION:2.0
PRODID:SchoolNow
CALSCALE:GREGORIAN
BEGIN:VEVENT
UID:cb3a98d6-7f96-11f0-995a-02e507064a77
DTSTAMP:20251216T200046Z
SUMMARY:WHS Jr High Volleyball @ Biggersville
URL;VALUE=URI:https://www.northtippah.org/calendar/8533738/whs-jr-high-voll
 eyball-biggersville
DTSTART:20250922T220000Z
DTEND:20250923T000000Z
END:VEVENT
END:VCALENDAR
