BEGIN:VCALENDAR
VERSION:2.0
PRODID:SchoolNow
CALSCALE:GREGORIAN
BEGIN:VEVENT
UID:cb3a99bc-7f96-11f0-8e30-02e507064a77
DTSTAMP:20251216T200046Z
SUMMARY:WHS Volleyball vs New Site
URL;VALUE=URI:https://www.northtippah.org/calendar/8533739/whs-volleyball-v
 s-new-site
DTSTART:20250923T210000Z
DTEND:20250924T000000Z
END:VEVENT
END:VCALENDAR
