BEGIN:VCALENDAR
VERSION:2.0
PRODID:SchoolNow
CALSCALE:GREGORIAN
BEGIN:VEVENT
UID:cb3a9b10-7f96-11f0-9678-02e507064a77
DTSTAMP:20251216T200046Z
SUMMARY:WHS Volleyball vs Hatley
URL;VALUE=URI:https://www.northtippah.org/calendar/8533740/whs-volleyball-v
 s-hatley
DTSTART:20250925T210000Z
DTEND:20250926T000000Z
END:VEVENT
END:VCALENDAR
