BEGIN:VCALENDAR
VERSION:2.0
PRODID:SchoolNow
CALSCALE:GREGORIAN
BEGIN:VEVENT
UID:cb3a9bf6-7f96-11f0-bf49-02e507064a77
DTSTAMP:20251216T200046Z
SUMMARY:WHS Football @ Myrtle
URL;VALUE=URI:https://www.northtippah.org/calendar/8533741/whs-football-myr
 tle
DTSTART:20250927T000000Z
DTEND:20250927T010000Z
END:VEVENT
END:VCALENDAR
