BEGIN:VCALENDAR
VERSION:2.0
PRODID:SchoolNow
CALSCALE:GREGORIAN
BEGIN:VEVENT
UID:cb3a9cd2-7f96-11f0-9c0c-02e507064a77
DTSTAMP:20251216T200046Z
SUMMARY:WHS Volleyball vs Ripley
URL;VALUE=URI:https://www.northtippah.org/calendar/8533742/whs-volleyball-v
 s-ripley
DTSTART:20250929T220000Z
DTEND:20250929T230000Z
END:VEVENT
END:VCALENDAR
