BEGIN:VCALENDAR
VERSION:2.0
PRODID:SchoolNow
CALSCALE:GREGORIAN
BEGIN:VEVENT
UID:cb3a9db8-7f96-11f0-92b7-02e507064a77
DTSTAMP:20251216T200046Z
SUMMARY:WHS Volleyball vs Baldwyn
URL;VALUE=URI:https://www.northtippah.org/calendar/8533743/whs-volleyball-v
 s-baldwyn
DTSTART:20250930T220000Z
DTEND:20250930T230000Z
END:VEVENT
END:VCALENDAR
