BEGIN:VCALENDAR
VERSION:2.0
PRODID:SchoolNow
CALSCALE:GREGORIAN
BEGIN:VEVENT
UID:cb3a9e94-7f96-11f0-8f34-02e507064a77
DTSTAMP:20251216T200046Z
SUMMARY:WHS Football @ Ashalnd
URL;VALUE=URI:https://www.northtippah.org/calendar/8533744/whs-football-ash
 alnd
DTSTART:20251004T000000Z
DTEND:20251004T010000Z
END:VEVENT
END:VCALENDAR
