BEGIN:VCALENDAR
VERSION:2.0
PRODID:SchoolNow
CALSCALE:GREGORIAN
BEGIN:VEVENT
UID:cb3a9f7a-7f96-11f0-9959-02e507064a77
DTSTAMP:20251216T200046Z
SUMMARY:WHS Football @ Biggersville
URL;VALUE=URI:https://www.northtippah.org/calendar/8533745/whs-football-big
 gersville
DTSTART:20251011T000000Z
DTEND:20251011T010000Z
END:VEVENT
END:VCALENDAR
