BEGIN:VCALENDAR
VERSION:2.0
PRODID:SchoolNow
CALSCALE:GREGORIAN
BEGIN:VEVENT
UID:be9dd5a2-8095-11f0-baa1-0a58a9feac02
DTSTAMP:20251216T200046Z
SUMMARY:FHS Jr. High Football @ H.W. Byres
URL;VALUE=URI:https://www.northtippah.org/calendar/8537076/fhs-jr-high-foot
 ball-h-w-byres
DTSTART:20250902T230000Z
DTEND:20250903T003000Z
END:VEVENT
END:VCALENDAR
