BEGIN:VCALENDAR
VERSION:2.0
PRODID:SchoolNow
CALSCALE:GREGORIAN
BEGIN:VEVENT
UID:be9dd73c-8095-11f0-a44e-0a58a9feac02
DTSTAMP:20251216T200046Z
SUMMARY:FHS Jr.High Football Vs. Thrasher
URL;VALUE=URI:https://www.northtippah.org/calendar/8537077/fhs-jr-high-foot
 ball-vs-thrasher
DTSTART:20250909T230000Z
DTEND:20250910T004500Z
END:VEVENT
END:VCALENDAR
