BEGIN:VCALENDAR
VERSION:2.0
PRODID:SchoolNow
CALSCALE:GREGORIAN
BEGIN:VEVENT
UID:bec2e7c0-8095-11f0-b30f-0a58a9feac02
DTSTAMP:20251216T200046Z
SUMMARY:FHS Jr.High Football Vs. Biggersville
URL;VALUE=URI:https://www.northtippah.org/calendar/8537078/fhs-jr-high-foot
 ball-vs-biggersville
DTSTART:20250916T230000Z
DTEND:20250917T010000Z
END:VEVENT
END:VCALENDAR
