BEGIN:VCALENDAR
VERSION:2.0
PRODID:SchoolNow
CALSCALE:GREGORIAN
BEGIN:VEVENT
UID:bec2ec2a-8095-11f0-bdf5-0a58a9feac02
DTSTAMP:20251216T200046Z
SUMMARY:FHS Jr.High Football @ Middleton
URL;VALUE=URI:https://www.northtippah.org/calendar/8537079/fhs-jr-high-foot
 ball-middleton
DTSTART:20250923T230000Z
DTEND:20250924T011500Z
END:VEVENT
END:VCALENDAR
