BEGIN:VCALENDAR
VERSION:2.0
PRODID:SchoolNow
CALSCALE:GREGORIAN
BEGIN:VEVENT
UID:bec2efe0-8095-11f0-af73-0a58a9feac02
DTSTAMP:20251216T200046Z
SUMMARY:FHS Tennis @ Walnut
URL;VALUE=URI:https://www.northtippah.org/calendar/8537082/fhs-tennis-walnu
 t
DTSTART:20260319T210000Z
DTEND:20260319T231500Z
END:VEVENT
END:VCALENDAR
