BEGIN:VCALENDAR
VERSION:2.0
PRODID:SchoolNow
CALSCALE:GREGORIAN
BEGIN:VEVENT
UID:bec2f0ee-8095-11f0-8014-0a58a9feac02
DTSTAMP:20251216T200046Z
SUMMARY:FHS Tennis Vs Thrasher @ NEMCC
URL;VALUE=URI:https://www.northtippah.org/calendar/8537083/fhs-tennis-vs-th
 rasher-nemcc
DTSTART:20260326T140000Z
DTEND:20260326T180000Z
END:VEVENT
END:VCALENDAR
