BEGIN:VCALENDAR
VERSION:2.0
PRODID:SchoolNow
CALSCALE:GREGORIAN
BEGIN:VEVENT
UID:bec2f1de-8095-11f0-bf7b-0a58a9feac02
DTSTAMP:20251216T200046Z
SUMMARY:FHS Tennis @ Walnut
URL;VALUE=URI:https://www.northtippah.org/calendar/8537084/fhs-tennis-walnu
 t
DTSTART:20260330T210000Z
DTEND:20260330T230000Z
END:VEVENT
END:VCALENDAR
