BEGIN:VCALENDAR
VERSION:2.0
PRODID:SchoolNow
CALSCALE:GREGORIAN
BEGIN:VEVENT
UID:bec2f3aa-8095-11f0-8530-0a58a9feac02
DTSTAMP:20251216T200046Z
SUMMARY:FHS Volleyball Vs Jumpertown
URL;VALUE=URI:https://www.northtippah.org/calendar/8537086/fhs-volleyball-v
 s-jumpertown
DTSTART:20250902T223000Z
DTEND:20250903T010000Z
END:VEVENT
END:VCALENDAR
