BEGIN:VCALENDAR
VERSION:2.0
PRODID:SchoolNow
CALSCALE:GREGORIAN
BEGIN:VEVENT
UID:bec2f490-8095-11f0-b5cf-0a58a9feac02
DTSTAMP:20251216T200046Z
SUMMARY:FHS Volleyball Vs Pine Grove
URL;VALUE=URI:https://www.northtippah.org/calendar/8537087/fhs-volleyball-v
 s-pine-grove
DTSTART:20250904T223000Z
DTEND:20250905T013000Z
END:VEVENT
END:VCALENDAR
