BEGIN:VCALENDAR
VERSION:2.0
PRODID:SchoolNow
CALSCALE:GREGORIAN
BEGIN:VEVENT
UID:bec2f56c-8095-11f0-9d72-0a58a9feac02
DTSTAMP:20251216T200046Z
SUMMARY:FHS Volleyball @ Biggersville
URL;VALUE=URI:https://www.northtippah.org/calendar/8537088/fhs-volleyball-b
 iggersville
DTSTART:20250908T223000Z
DTEND:20250909T010000Z
END:VEVENT
END:VCALENDAR
