BEGIN:VCALENDAR
VERSION:2.0
PRODID:SchoolNow
CALSCALE:GREGORIAN
BEGIN:VEVENT
UID:bec2f648-8095-11f0-bb11-0a58a9feac02
DTSTAMP:20251216T200046Z
SUMMARY:FHS Open House
URL;VALUE=URI:https://www.northtippah.org/calendar/8537089/fhs-open-house
DTSTART:20250909T210000Z
DTEND:20250909T230000Z
END:VEVENT
END:VCALENDAR
